BEGIN:VCALENDAR
VERSION:2.0
PRODID:-//James L. Knight Center - ECPv6.15.17//NONSGML v1.0//EN
CALSCALE:GREGORIAN
METHOD:PUBLISH
X-WR-CALNAME:James L. Knight Center
X-ORIGINAL-URL:https://jlkc.com
X-WR-CALDESC:Events for James L. Knight Center
REFRESH-INTERVAL;VALUE=DURATION:PT1H
X-Robots-Tag:noindex
X-PUBLISHED-TTL:PT1H
BEGIN:VTIMEZONE
TZID:UTC
BEGIN:STANDARD
TZOFFSETFROM:+0000
TZOFFSETTO:+0000
TZNAME:UTC
DTSTART:20250101T000000
END:STANDARD
END:VTIMEZONE
BEGIN:VEVENT
DTSTART;TZID=UTC:20260426T150000
DTEND;TZID=UTC:20260426T150000
DTSTAMP:20260426T031658
CREATED:20260318T143427Z
LAST-MODIFIED:20260318T143427Z
UID:10000972-1777215600-1777215600@jlkc.com
SUMMARY:Pica Pica Presenta "Hola Caracola"
DESCRIPTION:¡Diversión\, Música y Risas! El grupo infantil más popular del momento llega con su espectáculo lleno de juegos\, coreografías y canciones que harán cantar y bailar a toda la familia. \nPica Pica trae alegría\, humor y entretenimiento educativo en un show dinámico y participativo. \n  \nBoletos requirido para niños que celebraron su segundo cumpleaños. \nTickets required for children who celebrated their second birthday.
URL:https://jlkc.com/event/pica-pica-en-miami-abril-26-james-l-knight-center/
LOCATION:James L. Knight Center\, 400 SE 2nd Avenue\, miami\, FL\, 33131\, United States
CATEGORIES:Children's Theatre
ATTACH;FMTTYPE=image/png:https://jlkc.com/wp-content/uploads/2026/03/image_3cb0425e.png
END:VEVENT
END:VCALENDAR