BEGIN:VCALENDAR
VERSION:2.0
PRODID:-//James L. Knight Center - ECPv6.15.17//NONSGML v1.0//EN
CALSCALE:GREGORIAN
METHOD:PUBLISH
X-WR-CALNAME:James L. Knight Center
X-ORIGINAL-URL:https://jlkc.com
X-WR-CALDESC:Events for James L. Knight Center
REFRESH-INTERVAL;VALUE=DURATION:PT1H
X-Robots-Tag:noindex
X-PUBLISHED-TTL:PT1H
BEGIN:VTIMEZONE
TZID:America/New_York
BEGIN:DAYLIGHT
TZOFFSETFROM:-0500
TZOFFSETTO:-0400
TZNAME:EDT
DTSTART:20250309T070000
END:DAYLIGHT
BEGIN:STANDARD
TZOFFSETFROM:-0400
TZOFFSETTO:-0500
TZNAME:EST
DTSTART:20251102T060000
END:STANDARD
BEGIN:DAYLIGHT
TZOFFSETFROM:-0500
TZOFFSETTO:-0400
TZNAME:EDT
DTSTART:20260308T070000
END:DAYLIGHT
BEGIN:STANDARD
TZOFFSETFROM:-0400
TZOFFSETTO:-0500
TZNAME:EST
DTSTART:20261101T060000
END:STANDARD
BEGIN:DAYLIGHT
TZOFFSETFROM:-0500
TZOFFSETTO:-0400
TZNAME:EDT
DTSTART:20270314T070000
END:DAYLIGHT
BEGIN:STANDARD
TZOFFSETFROM:-0400
TZOFFSETTO:-0500
TZNAME:EST
DTSTART:20271107T060000
END:STANDARD
END:VTIMEZONE
BEGIN:VTIMEZONE
TZID:UTC
BEGIN:STANDARD
TZOFFSETFROM:+0000
TZOFFSETTO:+0000
TZNAME:UTC
DTSTART:20250101T000000
END:STANDARD
END:VTIMEZONE
BEGIN:VEVENT
DTSTART;TZID=America/New_York:20260423T083000
DTEND;TZID=America/New_York:20260425T180000
DTSTAMP:20260424T045112
CREATED:20260407T135338Z
LAST-MODIFIED:20260407T152207Z
UID:10000974-1776933000-1777140000@jlkc.com
SUMMARY:Case Acceptance Mastery
DESCRIPTION:Elevate Your Practice Beyond Clinical Excellence\n\nTransform the way you practice dentistry with Case Acceptance Mastery\, an intensive three-day program designed to bridge the gap between high-level clinical skills and sustainable business growth. Built on three essential pillars\, Human Connection\, Systematic Efficiency\, and Philosophical Clarity. This course provides a blueprint for clinicians who want their patients to say “yes” to the dentistry they deserve.
URL:https://jlkc.com/event/case-acceptance-mastery/
LOCATION:The Ashe Auditorium\, 400 SE 2nd Ave\, Miami\, FL\, 33131\, United States
CATEGORIES:Educational Conference/Event
ATTACH;FMTTYPE=image/jpeg:https://jlkc.com/wp-content/uploads/2026/04/CAM-1200x768px.jpg
END:VEVENT
BEGIN:VEVENT
DTSTART;TZID=UTC:20260424T200000
DTEND;TZID=UTC:20260424T200000
DTSTAMP:20260424T045112
CREATED:20260113T130013Z
LAST-MODIFIED:20260311T205720Z
UID:10000956-1777060800-1777060800@jlkc.com
SUMMARY:Matute
DESCRIPTION:Prepárate para una noche llena de energía con Matute\, la banda mexicana que convierte cada concierto en una celebración inolvidable del pop y rock de los años 80 y 90. Con una puesta en escena vibrante y una conexión única con el público\, Matute revive himnos que marcaron generaciones como “La Puerta de Alcalá”\, “Devuélveme a Mi Chica”\, “Persiana Americana”\, “Cuando Seas Grande” y “Lobo Hombre en París”\, invitando a cantar y bailar de principio a fin. Este show promete una experiencia explosiva\, llena de recuerdos\, ritmo y emoción que no te puedes perder.
URL:https://jlkc.com/event/matute/
LOCATION:James L. Knight Center\, 400 SE 2nd Avenue\, miami\, FL\, 33131\, United States
CATEGORIES:Concerts,Latin
ATTACH;FMTTYPE=image/png:https://jlkc.com/wp-content/uploads/2026/01/1200X768-NO-IFO.png
END:VEVENT
END:VCALENDAR